BEGIN:VCALENDAR
VERSION:2.0
PRODID:-//eventon.com NONSGML v1.0//EN
CALSCALE:GREGORIAN
METHOD:PUBLISH
BEGIN:VEVENT
UID:69eb664534d60
DTSTAMP:20260424T124701Z
DTSTART:20260404T063000Z
DTEND:20260404T150000Z
LOCATION:Golf de l'île d'Or 49270 Le Cellier
SUMMARY:2° Journée DD1 Entreprise 2026
DESCRIPTION:2° Journée DD1 Entreprise 2026\nhttps://cdgolf44.fr/events/2-
 journee-dd1-golf-entreprise-2026/
URL:https://cdgolf44.fr/events/2-journee-dd1-golf-entreprise-2026/
END:VEVENT
END:VCALENDAR